BEGIN:VCALENDAR
VERSION:2.0
PRODID:-//ChamberMaster//Event Calendar 2.0//EN
METHOD:PUBLISH
X-PUBLISHED-TTL:P3D
REFRESH-INTERVAL:P3D
CALSCALE:GREGORIAN
BEGIN:VEVENT
DTSTART:20090808T150000Z
DTEND:20090808T200000Z
X-MICROSOFT-CDO-ALLDAYEVENT:FALSE
SUMMARY:Childrens Health Connection
DESCRIPTION:Saturday\, August 8th - 9 am to 2 pmNorthlake Elementary268 No Coleman\, TooeleChildrens Health Connection Free Physical ExaminationsFree Dental ExaminationsFree Developmental ScreeningsFree Hearing ScreeningsFree Vision ScreeningsFree Mental Health ScreeningsFree Food & ActivitiesFree Car Seat ChecksNo Insurance or appointment necessary.All services are free. Follow-up services are available to eligible children. For more information435-843-9955
X-ALT-DESC;FMTTYPE=text/html:<div style="text-align: left"><span style="font-size: small">Saturday\, August 8th - 9 am to 2 pm</span></div><div style="text-align: left"><span style="font-size: small">Northlake Elementary</span></div><div style="text-align: left"><span style="font-size: small">268 No Coleman\, Tooele</span></div><div style="text-align: left"><span style="font-size: small">Childrens Health Connection</span></div><div style="text-align: left">&nbsp\;</div><ul><li style="text-align: left"><span style="font-size: small">Free Physical Examinations</span></li><li style="text-align: left"><span style="font-size: small">Free Dental Examinations</span></li><li style="text-align: left"><span style="font-size: small">Free Developmental Screenings</span></li><li style="text-align: left"><span style="font-size: small">Free Hearing Screenings</span></li><li style="text-align: left"><span style="font-size: small">Free Vision Screenings</span></li><li style="text-align: left"><span style="font-size: small">Free Mental Health Screenings</span></li><li style="text-align: left"><span style="font-size: small">Free Food &amp\; Activities</span></li><li style="text-align: left"><span style="font-size: small">Free Car Seat Checks</span></li></ul><div style="text-align: left"><span style="font-size: small">No Insurance or appointment necessary.</span></div><div style="text-align: left"><span style="font-size: small">All services are free. Follow-up services are available to eligible children.</span></div><div style="text-align: left">&nbsp\;</div><div style="text-align: left"><span style="font-size: small">For more information</span></div><div style="text-align: left"><span style="font-size: small">435-843-9955</span></div>
LOCATION:
UID:e.125.2547
SEQUENCE:3
DTSTAMP:20260423T200135Z
URL:https://business.tooelechamber.com/events/details/childrens-health-connection-08-08-2009-2547
END:VEVENT

END:VCALENDAR
