BEGIN:VCALENDAR
VERSION:2.0
PRODID:-//ChamberMaster//Event Calendar 2.0//EN
METHOD:PUBLISH
X-PUBLISHED-TTL:P3D
REFRESH-INTERVAL:P3D
CALSCALE:GREGORIAN
BEGIN:VEVENT
DTSTART:20131203T080000Z
DTEND:20131203T090000Z
X-MICROSOFT-CDO-ALLDAYEVENT:FALSE
SUMMARY:Christmas tree lighting
DESCRIPTION:Christmas tree lighting to take place at 6:00p.m.\nHot Chocolate and Donuts will be served.\nDonations to the Tooele County Food Bank will be collected.  (one item per person attending would be appreciated\, but not required)\nPlease come even if you can't make a donation.
X-ALT-DESC;FMTTYPE=text/html:Christmas tree lighting to take place at 6:00p.m.\nHot Chocolate and Donuts will be served.\nDonations to the Tooele County Food Bank will be collected.  (one item per person attending would be appreciated\, but not required)\nPlease come even if you can't make a donation.
LOCATION:At the Plaza Park
UID:e.125.5680
SEQUENCE:3
DTSTAMP:20260420T055523Z
URL:https://business.tooelechamber.com/events/details/christmas-tree-lighting-12-03-2013-5680
END:VEVENT

END:VCALENDAR
