BEGIN:VCALENDAR
VERSION:2.0
PRODID:-//ChamberMaster//Event Calendar 2.0//EN
METHOD:PUBLISH
X-PUBLISHED-TTL:P3D
REFRESH-INTERVAL:P3D
CALSCALE:GREGORIAN
BEGIN:VEVENT
DTSTART:20090319T010000Z
DTEND:20090319T010000Z
X-MICROSOFT-CDO-ALLDAYEVENT:FALSE
SUMMARY:City Council Meeting
DESCRIPTION:City Council MeetingMarch 18th\, 20097 pmCity Hall Council Chambers90 North Main\, Tooele 435-843-2100
X-ALT-DESC;FMTTYPE=text/html:<div align="center"><font size="4">City Council Meeting</font></div><div align="center"><font size="4">March 18th\, 2009</font></div><div align="center"><font size="4">7 pm</font></div><div align="center"><font size="4">City Hall Council Chambers</font></div><div align="center"><font size="4">90 North Main\, Tooele </font></div><div align="center"><font size="4">435-843-2100</font></div>
LOCATION:
UID:e.125.555
SEQUENCE:3
DTSTAMP:20260424T041455Z
URL:https://business.tooelechamber.com/events/details/city-council-meeting-03-18-2009-555
END:VEVENT

END:VCALENDAR
