BEGIN:VCALENDAR
VERSION:2.0
PRODID:-//ChamberMaster//Event Calendar 2.0//EN
METHOD:PUBLISH
X-PUBLISHED-TTL:P3D
REFRESH-INTERVAL:P3D
CALSCALE:GREGORIAN
BEGIN:VEVENT
DTSTART:20110603T130000Z
DTEND:20110603T190000Z
X-MICROSOFT-CDO-ALLDAYEVENT:FALSE
SUMMARY:CJC Annual Golf Tournament
DESCRIPTION:The Children's Justice Center Friend's Board\n	\n		present their 12th Annual Charity\n	\n		GOLF\n	\n		TOURNAMENT\n	\n		Oquirrh Hills Golf Course\n	\n		1255 East Vine Street\n	\n		June 3\, 3011\n\n		Check in @ 7:00 / Tee Off @ 8:00\n	\n		SHOTGUN START\n	\n		$50/person\n	\n		$200/team of 4\n	\n		Includes: Continental Breakfast\, Lunch sponsored by Domino's\n	\n		Pizza\, Drawings\, Door Prizes and a day of GREAT GOLFING!\n	\n		*SIGN UP by Friday\, May 27th*\n	\n		For more information please call: 843-3440\n	\n		All proceeds will benefit the Tooele County Children's Justice Center\n	\n		"A place where small voices can be heard"
X-ALT-DESC;FMTTYPE=text/html:<div>\n	<p align="center">\n		<strong><font face="BenguiatITCbyBT-Bold" size="5"><font face="BenguiatITCbyBT-Bold" size="5">The Children&rsquo\;s Justice Center Friend&rsquo\;s Board</font></font></strong></p>\n	<p align="center">\n		<strong><font face="BenguiatITCbyBT-Bold" size="5"><font face="BenguiatITCbyBT-Bold" size="5">present their 12th Annual Charity</font></font></strong></p>\n	<p align="center">\n		<strong><font color="#cd00cd" face="BenguiatITCbyBT-Bold" size="7"><font color="#cd00cd" face="BenguiatITCbyBT-Bold" size="7"><font color="#cd00cd" face="BenguiatITCbyBT-Bold" size="7">GOLF</font></font></font></strong></p>\n	<p align="center">\n		<strong><font color="#cd00cd" face="BenguiatITCbyBT-Bold" size="7"><font color="#cd00cd" face="BenguiatITCbyBT-Bold" size="7"><font color="#cd00cd" face="BenguiatITCbyBT-Bold" size="7">TOURNAMENT</font></font></font></strong></p>\n	<p align="center">\n		<strong><font face="BenguiatITCbyBT-Bold" size="6"><font face="BenguiatITCbyBT-Bold" size="6">Oquirrh Hills Golf Course</font></font></strong></p>\n	<p align="center">\n		<strong><font face="BenguiatITCbyBT-Bold" size="6"><font face="BenguiatITCbyBT-Bold" size="6">1255 East Vine Street</font></font></strong></p>\n	<p align="center">\n		<strong><font color="#cd00ff" face="BenguiatITCbyBT-Bold" size="7"><font color="#cd00ff" face="BenguiatITCbyBT-Bold" size="7"><font color="#cd00ff" face="BenguiatITCbyBT-Bold" size="7">June 3\, 3011</font></font></font></strong><br />\n		<strong><font face="BenguiatITCbyBT-Bold" size="6"><font face="BenguiatITCbyBT-Bold" size="6">Check in @ 7:00 / Tee Off @ 8:00</font></font></strong></p>\n	<p align="center">\n		<strong><font face="BenguiatITCbyBT-Bold" size="6"><font face="BenguiatITCbyBT-Bold" size="6">SHOTGUN START</font></font></strong></p>\n	<p align="center">\n		<strong><font face="BenguiatITCbyBT-Bold" size="6"><font face="BenguiatITCbyBT-Bold" size="6">$50/person</font></font></strong></p>\n	<p align="center">\n		<strong><font face="BenguiatITCbyBT-Bold" size="6"><font face="BenguiatITCbyBT-Bold" size="6">$200/team of 4</font></font></strong></p>\n	<p align="center">\n		<strong><font color="#339b33" face="BenguiatITCbyBT-Bold" size="5"><font color="#339b33" face="BenguiatITCbyBT-Bold" size="5"><font color="#339b33" face="BenguiatITCbyBT-Bold" size="5">Includes: Continental Breakfast\, Lunch sponsored by Domino&rsquo\;s</font></font></font></strong></p>\n	<p align="center">\n		<strong><font color="#339b33" face="BenguiatITCbyBT-Bold" size="5"><font color="#339b33" face="BenguiatITCbyBT-Bold" size="5"><font color="#339b33" face="BenguiatITCbyBT-Bold" size="5">Pizza\, Drawings\, Door Prizes and a day of GREAT GOLFING!</font></font></font></strong></p>\n	<p align="center">\n		<strong><font face="BenguiatITCbyBT-Bold" size="5"><font face="BenguiatITCbyBT-Bold" size="5">*SIGN UP by Friday\, May 27th*</font></font></strong></p>\n	<p align="center">\n		<strong><font face="BenguiatITCbyBT-Bold" size="4"><font face="BenguiatITCbyBT-Bold" size="4">For more information please call: 843-3440</font></font></strong></p>\n	<p align="center">\n		<strong><font face="BenguiatITCbyBT-Bold" size="4"><font face="BenguiatITCbyBT-Bold" size="4">All proceeds will benefit the Tooele County Children&rsquo\;s Justice Center</font></font></strong></p>\n	<p align="center">\n		<strong><font face="BenguiatITCbyBT-Bold" size="4"><font face="BenguiatITCbyBT-Bold" size="4">&ldquo\;A place where small voices can be heard&rdquo\;</font></font></strong></p>\n</div>\n
LOCATION:
UID:e.125.3705
SEQUENCE:3
DTSTAMP:20260422T091604Z
URL:https://business.tooelechamber.com/events/details/cjc-annual-golf-tournament-06-03-2011-3705
END:VEVENT

END:VCALENDAR
