BEGIN:VCALENDAR
VERSION:2.0
PRODID:-//ChamberMaster//Event Calendar 2.0//EN
METHOD:PUBLISH
X-PUBLISHED-TTL:P3D
REFRESH-INTERVAL:P3D
CALSCALE:GREGORIAN
BEGIN:VEVENT
DTSTART:20120710T233000Z
DTEND:20120711T040000Z
X-MICROSOFT-CDO-ALLDAYEVENT:FALSE
SUMMARY:Corporate 3-on-3 Basketball (Open)
DESCRIPTION:Corporate Games\n\nJuly 10\, 2012\n\n3-on-3 Basketball (Open)\n\nTooele Army Depot\n\n5:30PM-10:00PM
X-ALT-DESC;FMTTYPE=text/html:<span style="font-size: 20px">Corporate Games<br />\nJuly 10\, 2012<br />\n3-on-3 Basketball (Open)<br />\nTooele Army Depot<br />\n5:30PM-10:00PM</span><br />\n
LOCATION:
UID:e.125.4811
SEQUENCE:3
DTSTAMP:20260421T122522Z
URL:https://business.tooelechamber.com/events/details/corporate-3-on-3-basketball-open-07-10-2012-4811
END:VEVENT

END:VCALENDAR
