BEGIN:VCALENDAR
VERSION:2.0
PRODID:-//ChamberMaster//Event Calendar 2.0//EN
METHOD:PUBLISH
X-PUBLISHED-TTL:P3D
REFRESH-INTERVAL:P3D
CALSCALE:GREGORIAN
BEGIN:VEVENT
DTSTART:20120804T120000Z
DTEND:20120805T040000Z
X-MICROSOFT-CDO-ALLDAYEVENT:FALSE
SUMMARY:Corporate 5K Cross Country
DESCRIPTION:Corporate Games\n\nAugust 4\, 2012\n\n5K Cross Country\n\nDeseret Peak Complex\n\n6:00 AM
X-ALT-DESC;FMTTYPE=text/html:<span style="font-size: 20px">Corporate Games<br />\nAugust 4\, 2012<br />\n5K Cross Country<br />\nDeseret Peak Complex<br />\n6:00 AM</span>
LOCATION:
UID:e.125.4831
SEQUENCE:3
DTSTAMP:20260421T122522Z
URL:https://business.tooelechamber.com/events/details/corporate-5k-cross-country-08-04-2012-4831
END:VEVENT

END:VCALENDAR
