BEGIN:VCALENDAR
VERSION:2.0
PRODID:-//ChamberMaster//Event Calendar 2.0//EN
METHOD:PUBLISH
X-PUBLISHED-TTL:P3D
REFRESH-INTERVAL:P3D
CALSCALE:GREGORIAN
BEGIN:VEVENT
DTSTART:20120728T200000Z
DTEND:20120729T040000Z
X-MICROSOFT-CDO-ALLDAYEVENT:FALSE
SUMMARY:Corporate Dodge Ball
DESCRIPTION:Corporate Games\n\nJuly 28\, 2012\n\nDodge Ball\n\nTooele Army Depot\n\n2:00 PM
X-ALT-DESC;FMTTYPE=text/html:<span style="font-size: 20px">Corporate Games<br />\nJuly 28\, 2012<br />\nDodge Ball<br />\nTooele Army Depot<br />\n2:00 PM</span>
LOCATION:
UID:e.125.4826
SEQUENCE:3
DTSTAMP:20260421T122326Z
URL:https://business.tooelechamber.com/events/details/corporate-dodge-ball-07-28-2012-4826
END:VEVENT

END:VCALENDAR
