BEGIN:VCALENDAR
VERSION:2.0
PRODID:-//ChamberMaster//Event Calendar 2.0//EN
METHOD:PUBLISH
X-PUBLISHED-TTL:P3D
REFRESH-INTERVAL:P3D
CALSCALE:GREGORIAN
BEGIN:VEVENT
DTSTART:20140731T233000Z
DTEND:20140801T013000Z
X-MICROSOFT-CDO-ALLDAYEVENT:FALSE
SUMMARY:Corporate Games: Bowling (Coed)
DESCRIPTION:Corporate Games: Bowling (Coed)
X-ALT-DESC;FMTTYPE=text/html:Corporate Games: Bowling (Coed)
LOCATION:All Star Lanes 1111 North 200 West Tooele\, UT 84074
UID:e.125.5370
SEQUENCE:3
DTSTAMP:20260419T162703Z
URL:https://business.tooelechamber.com/events/details/corporate-games-bowling-coed-07-31-2014-5370
END:VEVENT

END:VCALENDAR
