BEGIN:VCALENDAR
VERSION:2.0
PRODID:-//ChamberMaster//Event Calendar 2.0//EN
METHOD:PUBLISH
X-PUBLISHED-TTL:P3D
REFRESH-INTERVAL:P3D
CALSCALE:GREGORIAN
BEGIN:VEVENT
DTSTART:20140722T233000Z
DTEND:20140723T013000Z
X-MICROSOFT-CDO-ALLDAYEVENT:FALSE
SUMMARY:Corporate Games: Dodgeball
DESCRIPTION:Corporate Games: Dodgeball
X-ALT-DESC;FMTTYPE=text/html:Corporate Games: Dodgeball<br />\n&nbsp\;
LOCATION:Tooele Army Depot
UID:e.125.5367
SEQUENCE:3
DTSTAMP:20260419T162632Z
URL:https://business.tooelechamber.com/events/details/corporate-games-dodgeball-07-22-2014-5367
END:VEVENT

END:VCALENDAR
