BEGIN:VCALENDAR
VERSION:2.0
PRODID:-//ChamberMaster//Event Calendar 2.0//EN
METHOD:PUBLISH
X-PUBLISHED-TTL:P3D
REFRESH-INTERVAL:P3D
CALSCALE:GREGORIAN
BEGIN:VEVENT
DTSTART:20110802T230000Z
DTEND:20110803T030000Z
X-MICROSOFT-CDO-ALLDAYEVENT:FALSE
SUMMARY:Corporate Games Event
DESCRIPTION:Tooele County Corporate Games\n\n	Event: Billiards @ 5pm\n\n	Contact: Chamber Office 435-882-0690
X-ALT-DESC;FMTTYPE=text/html:<p style="text-align: center">\n	<span style="font-size: 24px">Tooele County Corporate Games<br />\n	Event: Billiards @ 5pm<br />\n	Contact: Chamber Office 435-882-0690</span></p>\n
LOCATION:
UID:e.125.3673
SEQUENCE:3
DTSTAMP:20260422T075236Z
URL:https://business.tooelechamber.com/events/details/corporate-games-event-08-02-2011-3673
END:VEVENT

END:VCALENDAR
