BEGIN:VCALENDAR
VERSION:2.0
PRODID:-//ChamberMaster//Event Calendar 2.0//EN
METHOD:PUBLISH
X-PUBLISHED-TTL:P3D
REFRESH-INTERVAL:P3D
CALSCALE:GREGORIAN
BEGIN:VEVENT
DTSTART:20140716T141500Z
DTEND:20140716T180000Z
X-MICROSOFT-CDO-ALLDAYEVENT:FALSE
SUMMARY:Corporate Games: Golf (Open)
DESCRIPTION:Corporate Games: Golf (Open)
X-ALT-DESC;FMTTYPE=text/html:Corporate Games: Golf (Open)
LOCATION:Stansbury Park Golf Course 1 Country Club Stansbury Park\, UT 84074
UID:e.125.5364
SEQUENCE:3
DTSTAMP:20260419T162604Z
URL:https://business.tooelechamber.com/events/details/corporate-games-golf-open-07-16-2014-5364
END:VEVENT

END:VCALENDAR
