BEGIN:VCALENDAR
VERSION:2.0
PRODID:-//ChamberMaster//Event Calendar 2.0//EN
METHOD:PUBLISH
X-PUBLISHED-TTL:P3D
REFRESH-INTERVAL:P3D
CALSCALE:GREGORIAN
BEGIN:VEVENT
DTSTART:20140802T141500Z
DTEND:20140802T180000Z
X-MICROSOFT-CDO-ALLDAYEVENT:FALSE
SUMMARY:Corporate Games: Mini Triathlon
DESCRIPTION:Corporate Games: Mini Triathlon
X-ALT-DESC;FMTTYPE=text/html:Corporate Games: Mini Triathlon<br />\n&nbsp\;
LOCATION:Deseret Peak Complex 2930 Hwy 112 Tooele\, UT 84074
UID:e.125.5371
SEQUENCE:3
DTSTAMP:20260419T162632Z
URL:https://business.tooelechamber.com/events/details/corporate-games-mini-triathlon-08-02-2014-5371
END:VEVENT

END:VCALENDAR
