BEGIN:VCALENDAR
VERSION:2.0
PRODID:-//ChamberMaster//Event Calendar 2.0//EN
METHOD:PUBLISH
X-PUBLISHED-TTL:P3D
REFRESH-INTERVAL:P3D
CALSCALE:GREGORIAN
BEGIN:VEVENT
DTSTART:20140718T233000Z
DTEND:20140719T013000Z
X-MICROSOFT-CDO-ALLDAYEVENT:FALSE
SUMMARY:Corporate Games: Trap Shoot
DESCRIPTION:Corporate Games: Trap Shoot
X-ALT-DESC;FMTTYPE=text/html:Corporate Games: Trap Shoot<br />\n&nbsp\;
LOCATION:Tooele Gun Club Directions: At 400 North in Tooele turn east and go 4 miles to the foothills\; club is on the left.
UID:e.125.5365
SEQUENCE:3
DTSTAMP:20260419T162632Z
URL:https://business.tooelechamber.com/events/details/corporate-games-trap-shoot-07-18-2014-5365
END:VEVENT

END:VCALENDAR
