BEGIN:VCALENDAR
VERSION:2.0
PRODID:-//ChamberMaster//Event Calendar 2.0//EN
METHOD:PUBLISH
X-PUBLISHED-TTL:P3D
REFRESH-INTERVAL:P3D
CALSCALE:GREGORIAN
BEGIN:VEVENT
DTSTART:20120718T233000Z
DTEND:20120719T040000Z
X-MICROSOFT-CDO-ALLDAYEVENT:FALSE
SUMMARY:Corporate Go-Kart Racing
DESCRIPTION:Corporate Games\n\nJuly 18\, 2012\n\nGo-Kart Racing\n\nMiller Motorsports Park\n\n5:30 PM
X-ALT-DESC;FMTTYPE=text/html:<span style="font-size: 20px">Corporate Games<br />\nJuly 18\, 2012<br />\nGo-Kart Racing<br />\nMiller Motorsports Park<br />\n5:30 PM</span>
LOCATION:
UID:e.125.4820
SEQUENCE:3
DTSTAMP:20260421T122435Z
URL:https://business.tooelechamber.com/events/details/corporate-go-kart-racing-07-18-2012-4820
END:VEVENT

END:VCALENDAR
