BEGIN:VCALENDAR
VERSION:2.0
PRODID:-//ChamberMaster//Event Calendar 2.0//EN
METHOD:PUBLISH
X-PUBLISHED-TTL:P3D
REFRESH-INTERVAL:P3D
CALSCALE:GREGORIAN
BEGIN:VEVENT
DTSTART:20120802T133000Z
DTEND:20120802T180000Z
X-MICROSOFT-CDO-ALLDAYEVENT:FALSE
SUMMARY:Corporate Golf (Coed)
DESCRIPTION:Corporate Games\n\nAugust 2\, 2012\n\nGolf (Coed)\n\nOquirrh Hills Golf Course\n\nAugust 2\, 2012
X-ALT-DESC;FMTTYPE=text/html:<span style="font-size: 20px">Corporate Games<br />\nAugust 2\, 2012<br />\nGolf (Coed)<br />\nOquirrh Hills Golf Course<br />\nAugust 2\, 2012</span>
LOCATION:
UID:e.125.4830
SEQUENCE:3
DTSTAMP:20260421T105613Z
URL:https://business.tooelechamber.com/events/details/corporate-golf-coed-08-02-2012-4830
END:VEVENT

END:VCALENDAR
