BEGIN:VCALENDAR
VERSION:2.0
PRODID:-//ChamberMaster//Event Calendar 2.0//EN
METHOD:PUBLISH
X-PUBLISHED-TTL:P3D
REFRESH-INTERVAL:P3D
CALSCALE:GREGORIAN
BEGIN:VEVENT
DTSTART:20120721T150000Z
DTEND:20120721T180000Z
X-MICROSOFT-CDO-ALLDAYEVENT:FALSE
SUMMARY:Corporate Kickball (Coed)
DESCRIPTION:Corporate Games\n\nJuly 21\, 2012\n\nKickball (Coed)\n\nDeseret Peak Complex\n\n9:00 AM
X-ALT-DESC;FMTTYPE=text/html:<span style="font-size: 20px">Corporate Games<br />\nJuly 21\, 2012<br />\nKickball (Coed)<br />\nDeseret Peak Complex<br />\n9:00 AM</span>
LOCATION:
UID:e.125.4822
SEQUENCE:3
DTSTAMP:20260421T124547Z
URL:https://business.tooelechamber.com/events/details/corporate-kickball-coed-07-21-2012-4822
END:VEVENT

END:VCALENDAR
