BEGIN:VCALENDAR
VERSION:2.0
PRODID:-//ChamberMaster//Event Calendar 2.0//EN
METHOD:PUBLISH
X-PUBLISHED-TTL:P3D
REFRESH-INTERVAL:P3D
CALSCALE:GREGORIAN
BEGIN:VEVENT
DTSTART:20120709T233000Z
DTEND:20120710T040000Z
X-MICROSOFT-CDO-ALLDAYEVENT:FALSE
SUMMARY:Corporate Texas Hold'em Poker
DESCRIPTION:Corporate Games\n\nTexas Hold'em Poker\n\nJuly 9\, 2012\n\nDeseret Peak Complex\n\n5:30PM-10:00PM
X-ALT-DESC;FMTTYPE=text/html:<span style="font-size: 20px">Corporate Games<br />\nTexas Hold&#39\;em Poker<br />\nJuly 9\, 2012<br />\nDeseret Peak Complex<br />\n5:30PM-10:00PM</span>
LOCATION:
UID:e.125.4810
SEQUENCE:3
DTSTAMP:20260421T122518Z
URL:https://business.tooelechamber.com/events/details/corporate-texas-hold-em-poker-07-09-2012-4810
END:VEVENT

END:VCALENDAR
