BEGIN:VCALENDAR
VERSION:2.0
PRODID:-//ChamberMaster//Event Calendar 2.0//EN
METHOD:PUBLISH
X-PUBLISHED-TTL:P3D
REFRESH-INTERVAL:P3D
CALSCALE:GREGORIAN
BEGIN:VEVENT
DTSTART:20120726T233000Z
DTEND:20120727T040000Z
X-MICROSOFT-CDO-ALLDAYEVENT:FALSE
SUMMARY:Corporate Volleyball (Coed)
DESCRIPTION:Corporate Games\n\nJuly 26\, 2012\n\nVolleyball (Coed)\n\nDeseret Peak Complex\n\n5:30 PM
X-ALT-DESC;FMTTYPE=text/html:<span style="font-size: 20px">Corporate Games<br />\nJuly 26\, 2012<br />\nVolleyball (Coed)<br />\nDeseret Peak Complex<br />\n5:30 PM</span>
LOCATION:
UID:e.125.4823
SEQUENCE:3
DTSTAMP:20260421T122435Z
URL:https://business.tooelechamber.com/events/details/corporate-volleyball-coed-07-26-2012-4823
END:VEVENT

END:VCALENDAR
