BEGIN:VCALENDAR
VERSION:2.0
PRODID:-//ChamberMaster//Event Calendar 2.0//EN
METHOD:PUBLISH
X-PUBLISHED-TTL:P3D
REFRESH-INTERVAL:P3D
CALSCALE:GREGORIAN
BEGIN:VEVENT
DTSTART;VALUE=DATE:20101030
DTEND;VALUE=DATE:20101031
TRANSP:TRANSPARENT
X-MICROSOFT-CDO-ALLDAYEVENT:TRUE
SUMMARY:Costa Vida "Trick or Treat"
DESCRIPTION:Costa Vida "Trick or Treat" \n\n	Saturday\, October 30\, 2010\, All Day\n\n	Bring your kids dressed up in a Halloween costume and with a purchase of an adult or regular entree receive a FREE KID'S MEAL \n\n	At the Tooele location
X-ALT-DESC;FMTTYPE=text/html:<p style="text-align: center">\n	<span style="font-size: 22px"><strong><u>Costa Vida &quot\;Trick or Treat&quot\; </u></strong><br />\n	Saturday\, October 30\, 2010\, All Day<br />\n	Bring your kids dressed up in a Halloween costume and with a purchase of an adult or regular entree receive a <span style="color: #ff0000">FREE KID&#39\;S MEAL </span><br />\n	At the Tooele location</span></p>\n
LOCATION:
UID:e.125.3284
SEQUENCE:3
DTSTAMP:20260422T221526Z
URL:https://business.tooelechamber.com/events/details/costa-vida-trick-or-treat-10-30-2010-3284
END:VEVENT

END:VCALENDAR
