BEGIN:VCALENDAR
VERSION:2.0
PRODID:-//ChamberMaster//Event Calendar 2.0//EN
METHOD:PUBLISH
X-PUBLISHED-TTL:P3D
REFRESH-INTERVAL:P3D
CALSCALE:GREGORIAN
BEGIN:VEVENT
DTSTART;VALUE=DATE:20090320
DTEND;VALUE=DATE:20090321
TRANSP:TRANSPARENT
X-MICROSOFT-CDO-ALLDAYEVENT:TRUE
SUMMARY:Costco Membership Sign Up at Tooele City
DESCRIPTION:Friday\, March 20thCostco Membership Sign UpTooele City Hall90 North Main\, Tooele11 am-1 pm435-843-2100
X-ALT-DESC;FMTTYPE=text/html:<div align="center"><font size="5">Friday\, March 20th</font></div><div align="center"><font size="5">Costco Membership Sign Up</font></div><div align="center"><font size="5">Tooele City Hall</font></div><div align="center"><font size="5">90 North Main\, Tooele</font></div><div align="center"><font size="5">11 am-1 pm</font></div><div align="center"><font size="5">435-843-2100</font></div>
LOCATION:
UID:e.125.563
SEQUENCE:3
DTSTAMP:20260424T041541Z
URL:https://business.tooelechamber.com/events/details/costco-membership-sign-up-at-tooele-city-03-20-2009-563
END:VEVENT

END:VCALENDAR
