BEGIN:VCALENDAR
VERSION:2.0
PRODID:-//ChamberMaster//Event Calendar 2.0//EN
METHOD:PUBLISH
X-PUBLISHED-TTL:P3D
REFRESH-INTERVAL:P3D
CALSCALE:GREGORIAN
BEGIN:VEVENT
DTSTART:20110304T003000Z
DTEND:20110304T020000Z
X-MICROSOFT-CDO-ALLDAYEVENT:FALSE
SUMMARY:County Legislative Causus Meeting
DESCRIPTION:County Legislative Caucus Meeting \n\n	Thursday\, March 3\, 2011 @ 5:30pm \nat the Utah State Capital\, House Bldg. (West Bldg)  Room #30\n\neveryone is invited!\n\nFor questions or concerns contact the County Commission Office @ 435-843-3150
X-ALT-DESC;FMTTYPE=text/html:<p>\n	<span style="font-size: 18px">County Legislative Caucus Meeting </span></p>\n<p>\n	<span style="font-size: 18px">Thursday\,&nbsp\;March 3\, 2011 @ 5:30pm </span></p>\n<span style="font-size: 18px">at the Utah State Capital\, House Bldg. (West Bldg)&nbsp\; Room #30<br />\neveryone is invited!<br />\nFor questions or concerns contact the County Commission Office @ 435-843-3150<br />\n<span _fck_bookmark="1" style="display: none">&nbsp\;</span></span>
LOCATION:
UID:e.125.3600
SEQUENCE:3
DTSTAMP:20260422T135910Z
URL:https://business.tooelechamber.com/events/details/county-legislative-causus-meeting-03-03-2011-3600
END:VEVENT

END:VCALENDAR
