BEGIN:VCALENDAR
VERSION:2.0
PRODID:-//ChamberMaster//Event Calendar 2.0//EN
METHOD:PUBLISH
X-PUBLISHED-TTL:P3D
REFRESH-INTERVAL:P3D
CALSCALE:GREGORIAN
BEGIN:VEVENT
DTSTART;VALUE=DATE:20101115
DTEND;VALUE=DATE:20101225
TRANSP:TRANSPARENT
X-MICROSOFT-CDO-ALLDAYEVENT:TRUE
SUMMARY:CURVES of Tooele Helping Local Food Bank
DESCRIPTION:CURVES of Tooele Shares the Giving Spirit This Thanksgiving\n\n	Thanksgiving is just around the corner and Christmas is not too far away either.\n\n	Let's not forget the people in our community that are not able to provide their family with a Thanksgiving or Christmas dinner. CURVES of Tooele wants to help by having their traditional "Thanksgiving for All." Beginning Monday\, November 15th until Christmas Eve Friday\, December 24th\, CURVES of Tooele will be a drop-off location for donations.\n\n	All of the items collected will be delivered to the Tooele Food Bank and the Children's Justice Center in time to help the needy families in our community.\n\n	ALL food items will be appreciated\, however this year the Food Bank has a high need of canned protein items\, new and near new hats\, coats\, gloves\, mittens\, new and near new toys\, toiletries\, and teen jewelry.\n\n	As part of this effort\, Tooele CURVES will waive its initial service fee for new members who bring in their donations.\n\n	Please bring your donations to: \n\n	Tooele CURVES \n\n	61 East 1280 North\, Tooele \n\n	Monday-Friday 6am-1pm\, 3pm-7:30pm \n\n	Saturdays 8am-11am \n\n	Last year CURVES of Tooele members and friends gave over 1/4 of a ton of food to the Food Bank.\n\n	Let's see if we can out-do ourselves this year!!
X-ALT-DESC;FMTTYPE=text/html:<p style="text-align: center">\n	CURVES of Tooele Shares the Giving Spirit This Thanksgiving<br />\n	Thanksgiving is just around the corner and Christmas is not too far away either.<br />\n	Let&#39\;s not forget the people in our community that are not able to provide their family with a Thanksgiving or Christmas dinner. CURVES of Tooele wants to help by having their traditional &quot\;Thanksgiving for All.&quot\; Beginning Monday\, November 15th until Christmas Eve Friday\, December 24th\, CURVES of Tooele will be a drop-off location for donations.<br />\n	All of the items collected will be delivered to the Tooele Food Bank and the Children&#39\;s Justice Center in time to help the needy families in our community.<br />\n	ALL food items will be appreciated\, however this year the Food Bank has a high need of canned protein items\, new and near new hats\, coats\, gloves\, mittens\, new and near new toys\, toiletries\, and teen jewelry.<br />\n	As part of this effort\, Tooele CURVES will waive its initial service fee for new members who bring in their donations.<br />\n	<span style="color: #ff0000"><span style="background-color: #00ffff">Please bring your donations to: </span><br />\n	<span style="background-color: #00ffff">Tooele CURVES </span><br />\n	<span style="background-color: #00ffff">61 East 1280 North\, Tooele </span><br />\n	<span style="background-color: #00ffff">Monday-Friday 6am-1pm\, 3pm-7:30pm </span><br />\n	<span style="background-color: #00ffff">Saturdays 8am-11am </span></span><br />\n	Last year CURVES of Tooele members and friends gave over 1/4 of a ton of food to the Food Bank.<br />\n	Let&#39\;s see if we can out-do ourselves this year!!</p>\n
LOCATION:
UID:e.125.3297
SEQUENCE:3
DTSTAMP:20260422T190222Z
URL:https://business.tooelechamber.com/events/details/curves-of-tooele-helping-local-food-bank-11-15-2010-3297
END:VEVENT

END:VCALENDAR
