BEGIN:VCALENDAR
VERSION:2.0
PRODID:-//ChamberMaster//Event Calendar 2.0//EN
METHOD:PUBLISH
X-PUBLISHED-TTL:P3D
REFRESH-INTERVAL:P3D
CALSCALE:GREGORIAN
BEGIN:VEVENT
DTSTART:20090606T150000Z
DTEND:20090606T180000Z
X-MICROSOFT-CDO-ALLDAYEVENT:FALSE
SUMMARY:Cystic Fibrosis Foundation Great Strides Walk
DESCRIPTION:Saturday June 6thTooele City ParkRegister at 9 amWalk at 10 am PrizesFoodGamesMusicCar Show Come help support those in your local community and enjot the fun! Donations welcome\, but not necessary Your participation will help create awareness and invaluable partnerships that carry a unified vision across the country! Cystic Fibrosis Foundation801-281-1886www.cff.org
X-ALT-DESC;FMTTYPE=text/html:<div align="center"><font size="4">Saturday June 6th</font></div><div align="center"><font size="4">Tooele City Park</font></div><div align="center"><font size="4">Register at 9 am</font></div><div align="center"><font size="4">Walk at 10 am</font></div><div align="center">&nbsp\;</div><div align="center"><font size="4">Prizes</font></div><div align="center"><font size="4">Food</font></div><div align="center"><font size="4">Games</font></div><div align="center"><font size="4">Music</font></div><div align="center"><font size="4">Car Show</font></div><div align="center">&nbsp\;</div><div align="center"><font size="4">Come help support those in your local community and enjot the fun!</font></div><div align="center">&nbsp\;</div><div align="center"><font size="4">Donations welcome\, but not necessary</font></div><div align="center">&nbsp\;</div><div align="center"><font size="4">Your participation will help create awareness and&nbsp\;invaluable partnerships that carry a unified vision across the country!</font></div><div align="center">&nbsp\;</div><div align="center"><font size="4">Cystic Fibrosis Foundation</font></div><div align="center"><font size="4">801-281-1886</font></div><div align="center"><a href="http://www.cff.org"><font size="4">www.cff.org</font></a></div>
LOCATION:
UID:e.125.2530
SEQUENCE:3
DTSTAMP:20260423T232434Z
URL:https://business.tooelechamber.com/events/details/cystic-fibrosis-foundation-great-strides-walk-06-06-2009-2530
END:VEVENT

END:VCALENDAR
