BEGIN:VCALENDAR
VERSION:2.0
PRODID:-//ChamberMaster//Event Calendar 2.0//EN
METHOD:PUBLISH
X-PUBLISHED-TTL:P3D
REFRESH-INTERVAL:P3D
CALSCALE:GREGORIAN
BEGIN:VEVENT
DTSTART:20080607T160000Z
DTEND:20080607T220000Z
X-MICROSOFT-CDO-ALLDAYEVENT:FALSE
SUMMARY:Daughters of Utah Pioneers Annual Pioneer Jubilee
DESCRIPTION:Tooele County Chapter of the Daughters of Utah Pioneersis pleased to announce its annual Pionner Jubilee- Saturday\, June 7th\, 2008Activities will be from 10 am to 2 pmThe museum will be open from 10 am to 4pm Free tours of the museum and log cabin will be provided.Demostrations of lost arts( i.e. blacksmithing\, rug typing etc.)Punch card tour with a free treat at the conclusion of the tour.Free entertainmentFood will be available at a minimal chargeBBQ sandwiches & drink for $2.00Hot dog & drink for $1.00 Tooele County children can participate in a treasure hunt. To participate you may pick up the "Treasure Hunt Maps" at the Tooele Maceys service desk beginning April 19th\, 2008.The completed "Treasure Map" should be returned  to the DUP Museum Saturday\, June 7th to be redeemed for a Rodeo ticket.The tickets will be for the Saturday Night June 7th session of the Deseret Peak Stampede a PRCA sanctioned rodeo. These tickets are for child 12 and under and are valid when accompanied by a paying adult. There are an unlimited amount of the these children's tickets available.
X-ALT-DESC;FMTTYPE=text/html:<div align="center">Tooele County Chapter of the Daughters of Utah Pioneers</div><div align="center">is pleased to announce its annual Pionner Jubilee- Saturday\, June 7th\, 2008</div><div align="center">Activities will be from 10 am to 2 pm</div><div align="center">The museum will be open from 10 am to 4pm</div><div align="center">&nbsp\;</div><div align="center">Free tours of the museum and log cabin will be provided.</div><div align="center">Demostrations of lost arts( i.e. blacksmithing\, rug typing etc.)</div><div align="center">Punch card tour with a free treat at the conclusion of the tour.</div><div align="center">Free entertainment</div><div align="center">Food will be available at a minimal charge</div><div align="center">BBQ sandwiches &amp\; drink for $2.00</div><div align="center">Hot dog &amp\; drink for $1.00</div><div align="center">&nbsp\;</div><div align="center">Tooele County children can participate in a treasure hunt. To participate you may pick up the &quot\;Treasure Hunt Maps&quot\; at the Tooele Maceys service desk beginning April 19th\, 2008.</div><div align="center">The completed &quot\;Treasure Map&quot\; should be returned&nbsp\; to the DUP Museum Saturday\, June 7th to be redeemed for a Rodeo ticket.</div><div align="center">The tickets will be for the Saturday Night June 7th session of the Deseret Peak Stampede a PRCA sanctioned rodeo. These tickets are for child 12 and under and are valid when accompanied by a paying adult. There are an unlimited amount of the these children&rsquo\;s tickets available.</div>
LOCATION:Daughters of Utah Pioneers47 East Vine Street\, Tooele
UID:e.125.393
SEQUENCE:3
DTSTAMP:20260424T190631Z
URL:https://business.tooelechamber.com/events/details/daughters-of-utah-pioneers-annual-pioneer-jubilee-06-07-2008-393
END:VEVENT

END:VCALENDAR
