BEGIN:VCALENDAR
VERSION:2.0
PRODID:-//ChamberMaster//Event Calendar 2.0//EN
METHOD:PUBLISH
X-PUBLISHED-TTL:P3D
REFRESH-INTERVAL:P3D
CALSCALE:GREGORIAN
BEGIN:VEVENT
DTSTART:20100331T010000Z
DTEND:20100331T020000Z
X-MICROSOFT-CDO-ALLDAYEVENT:FALSE
SUMMARY:Depleted Uranium Information Meeting
DESCRIPTION:Depleted Uranium Information Meeting Tuesday\, March 30th ~ 7pmTooele County Emergency Managment Building Training Room 15 East 100 South\, Tooele Come hear industry experts explain all you should know about the safe storage of Depleted Uranium. The panel of speakers will include: a chemical engineer from the University of Utah\, a retired health physicist\, and an epidemiologist from the Utah Department of Health. The meeting will be facilitated by the Tooele County Health Department Deputy Director\, Jeff Coombs.Anyone and Everyone is invited to attend.
X-ALT-DESC;FMTTYPE=text/html:<div style="text-align: center"><u><strong><span style="font-size: large">Depleted Uranium Information Meeting </span></strong></u></div><div style="text-align: center"><span style="font-size: medium">Tuesday\, March 30th ~ 7pm</span></div><div style="text-align: center"><span style="font-size: medium">Tooele County Emergency Managment Building </span></div><div style="text-align: center"><span style="font-size: medium">Training Room </span></div><div style="text-align: center"><span style="font-size: medium">15 East 100 South\, Tooele </span></div><div style="text-align: center"><span style="font-size: medium">Come hear industry experts explain all you should know about the safe storage of Depleted Uranium. The panel of speakers will include: a chemical engineer from the University of Utah\, a retired health physicist\, and an epidemiologist from the Utah Department of Health. </span></div><div style="text-align: center"><span style="font-size: medium">The meeting will be facilitated by the Tooele County Health Department Deputy Director\, Jeff Coombs.</span></div><div style="text-align: center"><span style="font-size: medium">Anyone and Everyone is invited to attend.</span></div>
LOCATION:
UID:e.125.3125
SEQUENCE:3
DTSTAMP:20260423T093125Z
URL:https://business.tooelechamber.com/events/details/depleted-uranium-information-meeting-03-30-2010-3125
END:VEVENT

END:VCALENDAR
