BEGIN:VCALENDAR
VERSION:2.0
PRODID:-//ChamberMaster//Event Calendar 2.0//EN
METHOD:PUBLISH
X-PUBLISHED-TTL:P3D
REFRESH-INTERVAL:P3D
CALSCALE:GREGORIAN
BEGIN:VEVENT
DTSTART;VALUE=DATE:20080524
DTEND;VALUE=DATE:20080525
TRANSP:TRANSPARENT
X-MICROSOFT-CDO-ALLDAYEVENT:TRUE
SUMMARY:Deseret peak Aquatic Center Opens
DESCRIPTION:Deseret Peak Aquatic Center Opens
X-ALT-DESC;FMTTYPE=text/html:<div>Deseret Peak Aquatic Center Opens</div>
LOCATION:Deseret Peak Complex2930 West Hwy 112\, Tooele
UID:e.125.404
SEQUENCE:3
DTSTAMP:20260424T203559Z
URL:https://business.tooelechamber.com/events/details/deseret-peak-aquatic-center-opens-05-24-2008-404
END:VEVENT

END:VCALENDAR
