BEGIN:VCALENDAR
VERSION:2.0
PRODID:-//ChamberMaster//Event Calendar 2.0//EN
METHOD:PUBLISH
X-PUBLISHED-TTL:P3D
REFRESH-INTERVAL:P3D
CALSCALE:GREGORIAN
BEGIN:VEVENT
DTSTART;VALUE=DATE:20110603
DTEND;VALUE=DATE:20110605
TRANSP:TRANSPARENT
X-MICROSOFT-CDO-ALLDAYEVENT:TRUE
SUMMARY:Deseret Peak Days & Stampede Rodeo
DESCRIPTION:Deseret Peak Days & Stampede PRCA Rodeo\n\n	June 3rd - 4th\, 2011\n\n	2930 West Hwy 112\, Tooele\n\n	www.deseretpeakcomplex.com
X-ALT-DESC;FMTTYPE=text/html:<p style="text-align: center">\n	<span style="font-size: 20px">Deseret Peak Days &amp\; Stampede PRCA Rodeo<br />\n	June 3rd - 4th\, 2011<br />\n	2930 West Hwy 112\, Tooele<br />\n	<a href="http://www.deseretpeakcomplex.com">www.deseretpeakcomplex.com</a> </span></p>\n
LOCATION:
UID:e.125.3533
SEQUENCE:3
DTSTAMP:20260422T093114Z
URL:https://business.tooelechamber.com/events/details/deseret-peak-days-stampede-rodeo-06-03-2011-3533
END:VEVENT

END:VCALENDAR
