BEGIN:VCALENDAR
VERSION:2.0
PRODID:-//ChamberMaster//Event Calendar 2.0//EN
METHOD:PUBLISH
X-PUBLISHED-TTL:P3D
REFRESH-INTERVAL:P3D
CALSCALE:GREGORIAN
BEGIN:VEVENT
DTSTART;VALUE=DATE:20080606
DTEND;VALUE=DATE:20080608
TRANSP:TRANSPARENT
X-MICROSOFT-CDO-ALLDAYEVENT:TRUE
SUMMARY:Deseret Peak Stampede Days Rodeo
DESCRIPTION:Deseret Peak Stampede Days RodeoPro-Rodeo\, Craft show\, Tooele Idol\, Fireworks\, Pony rides\, entertainment and lots more for the whole family.The craft show is from 3-10 pm on Fri. and 12-10 pm on Sat. Mutton Bustin' is at 7pm and the rodeo is at 8pm.Tickets on sale now at the Deseret Peak Complex and ticketmaster.com.For more info. call 435-843-4020.
X-ALT-DESC;FMTTYPE=text/html:<div>Deseret Peak Stampede Days Rodeo</div><div>Pro-Rodeo\, Craft show\, Tooele Idol\, Fireworks\, Pony rides\, entertainment and lots more for the whole family.</div><div>The craft show is from 3-10 pm on Fri. and 12-10 pm on Sat. Mutton Bustin' is at 7pm and the rodeo is at 8pm.</div><div>Tickets on sale now at the Deseret Peak Complex and ticketmaster.com.</div><div>For more info. call 435-843-4020.</div>
LOCATION:Deseret Peak Complex2930 West Hwy 112\, Tooele
UID:e.125.405
SEQUENCE:3
DTSTAMP:20260424T185522Z
URL:https://business.tooelechamber.com/events/details/deseret-peak-stampede-days-rodeo-06-06-2008-405
END:VEVENT

END:VCALENDAR
