BEGIN:VCALENDAR
VERSION:2.0
PRODID:-//ChamberMaster//Event Calendar 2.0//EN
METHOD:PUBLISH
X-PUBLISHED-TTL:P3D
REFRESH-INTERVAL:P3D
CALSCALE:GREGORIAN
BEGIN:VEVENT
DTSTART:20120922T140000Z
DTEND:20120922T180000Z
X-MICROSOFT-CDO-ALLDAYEVENT:FALSE
SUMMARY:Domestic Violence Awareness 5K Run/Walk
DESCRIPTION:Domestic Violence Awareness 5K Run/Walk\n\n	 \n\n	DATE:  September 22nd\, 2012\n\n	REGISTRATION:  8am - Elton Park Pavillion\n\n	RUN/WALK:  9am - Start at Tooele Gun Club\, End Elton Park\n\n	PLACE:  Smelter Road\n\n	SPONSOR:  GFWC Tooele Civic League\n\n	PRICE:  $20 (All proceeds to benefit domestic violence awareness) \n\n	\n\n	More information to follow once website is available for early registration \n\n	\n\n	http://www.eset.com \n\n	Click here to edit...
X-ALT-DESC;FMTTYPE=text/html:<div style="color: gray">\n	<span style="color: #000000"><span style="font-size: 16px"><span style="font-size: 18px"><u><strong>Domestic Violence Awareness 5K Run/Walk</strong></u></span><br />\n	&nbsp\;<br />\n	<strong>DATE:&nbsp\; September 22nd\, 2012<br />\n	REGISTRATION:&nbsp\; 8am - Elton Park Pavillion<br />\n	RUN/WALK:&nbsp\; 9am - Start at Tooele Gun Club\, End Elton Park<br />\n	PLACE:&nbsp\; Smelter Road<br />\n	SPONSOR:&nbsp\; GFWC Tooele Civic League<br />\n	PRICE:&nbsp\; $20 (All proceeds to benefit domestic violence awareness)&nbsp\;<br />\n	<br />\n	<span style="font-size: 12pt"><span style="font-family: times new roman\, serif">More information to follow once website is available for early registration&nbsp\;</span></span></strong></span></span><br />\n	<br />\n	<span style="font-size: 16px"><strong><span style="font-size: 12pt"><span style="font-family: times new roman\, serif"><a href="http://www.eset.com/"><span style="color: #000000"><span face="">http://www.eset.com</span></span></a></span></span></strong></span><span style="color: #000000"><span style="font-size: 16px"><strong><span style="font-size: 12pt"><span style="font-family: times new roman\, serif">&nbsp\;</span></span></strong></span><br />\n	<strong>Click here to edit...</strong></span></div>\n
LOCATION:
UID:e.125.4871
SEQUENCE:3
DTSTAMP:20260421T090503Z
URL:https://business.tooelechamber.com/events/details/domestic-violence-awareness-5k-run-walk-09-22-2012-4871
END:VEVENT

END:VCALENDAR
