BEGIN:VCALENDAR
VERSION:2.0
PRODID:-//ChamberMaster//Event Calendar 2.0//EN
METHOD:PUBLISH
X-PUBLISHED-TTL:P3D
REFRESH-INTERVAL:P3D
CALSCALE:GREGORIAN
BEGIN:VEVENT
DTSTART:20110316T010000Z
DTEND:20110316T030000Z
X-MICROSOFT-CDO-ALLDAYEVENT:FALSE
SUMMARY:Don't Fall in Love with a Jerk or Jerkette
DESCRIPTION:Don't Fall in Love with Jerk or Jerkette. \n\n	Do you always seem to fall for the jerk or jerkette? Come to this 5 week class series to learn how to avoid doing this. Classes will be held February 22\, March 1\, 2\, 15\, 22 from 7-9 p.m. Classes will be held at USU Extension (151 N. Main- County Health Building) back auditorium. Cost is $10 and is free to income eligible (WIC guidelines- call to see if you qualify). And the best part- if you attend all 5 classes you will receive a $20 gift card back! Classes sponsored by the Tooele County Healthy Marriage Coalition and USU Extension. Call 435-277-2400 to sign up. Questions? Call Darlene at 435-277-2406.
X-ALT-DESC;FMTTYPE=text/html:<p class="MsoNormal" style="margin: 0in 0in 0pt">\n	<b><font size="3"><font color="#000000"><font face="Calibri">Don&rsquo\;t Fall in Love with Jerk or Jerkette. <o:p></o:p></font></font></font></b></p>\n<p class="MsoNormal" style="margin: 0in 0in 0pt">\n	<font color="#000000" face="Calibri" size="3">Do you always seem to fall for the jerk or jerkette? Come to this 5 week class series to learn how to avoid doing this. Classes will be held February 22\, March 1\, 2\, 15\, 22 from 7-9 p.m. Classes will be held at USU Extension (151 N. Main- County Health Building) back auditorium. Cost is $10 and is free to income eligible (WIC guidelines- call to see if you qualify). And the best part- if you attend all 5 classes you will receive a $20 gift card back! Classes sponsored by the Tooele County Healthy Marriage Coalition and USU Extension. Call 435-277-2400 to sign up. Questions? Call Darlene at 435-277-2406.<span _fck_bookmark="1" style="display: none">&nbsp\;</span></font></p>\n
LOCATION:
UID:e.125.3616
SEQUENCE:3
DTSTAMP:20260422T140141Z
URL:https://business.tooelechamber.com/events/details/don-t-fall-in-love-with-a-jerk-or-jerkette-03-15-2011-3616
END:VEVENT

END:VCALENDAR
