BEGIN:VCALENDAR
VERSION:2.0
PRODID:-//ChamberMaster//Event Calendar 2.0//EN
METHOD:PUBLISH
X-PUBLISHED-TTL:P3D
REFRESH-INTERVAL:P3D
CALSCALE:GREGORIAN
BEGIN:VEVENT
DTSTART:20080418T053000Z
DTEND:20080418T053000Z
X-MICROSOFT-CDO-ALLDAYEVENT:FALSE
SUMMARY:Donald Duck
DESCRIPTION:Donald Duck the movie will be playing at the Tooele City Library onApril 17th\, 2008 at 11:30 am
X-ALT-DESC;FMTTYPE=text/html:<div>Donald Duck the movie will be playing at the Tooele City Library on</div><div>April 17th\, 2008 at 11:30 am</div>
LOCATION:Tooele City Library128 W. Vine Street\, Tooele
UID:e.125.383
SEQUENCE:3
DTSTAMP:20260424T215644Z
URL:https://business.tooelechamber.com/events/details/donald-duck-04-17-2008-383
END:VEVENT

END:VCALENDAR
