BEGIN:VCALENDAR
VERSION:2.0
PRODID:-//ChamberMaster//Event Calendar 2.0//EN
METHOD:PUBLISH
X-PUBLISHED-TTL:P3D
REFRESH-INTERVAL:P3D
CALSCALE:GREGORIAN
BEGIN:VEVENT
DTSTART:20101030T220000Z
DTEND:20101031T010000Z
X-MICROSOFT-CDO-ALLDAYEVENT:FALSE
SUMMARY:Downtown Trick or Treat
DESCRIPTION:Downtown Trick or Treat and Trick or Treat at Tooele City Library\n\n	Saturday\, October 30th from 4-7pm
X-ALT-DESC;FMTTYPE=text/html:<p style="text-align: center">\n	<span style="font-size: 24px">Downtown Trick or Treat and Trick or Treat at Tooele City Library<br />\n	Saturday\, October 30th from 4-7pm</span></p>\n
LOCATION:
UID:e.125.3255
SEQUENCE:3
DTSTAMP:20260422T220146Z
URL:https://business.tooelechamber.com/events/details/downtown-trick-or-treat-10-30-2010-3255
END:VEVENT

END:VCALENDAR
