BEGIN:VCALENDAR
VERSION:2.0
PRODID:-//ChamberMaster//Event Calendar 2.0//EN
METHOD:PUBLISH
X-PUBLISHED-TTL:P3D
REFRESH-INTERVAL:P3D
CALSCALE:GREGORIAN
BEGIN:VEVENT
DTSTART;VALUE=DATE:20110709
DTEND;VALUE=DATE:20110710
TRANSP:TRANSPARENT
X-MICROSOFT-CDO-ALLDAYEVENT:TRUE
SUMMARY:DUP Pioneer Day @ Benson Grist Mill
DESCRIPTION:DUP Pioneer Days at the Benson Grist Mill \n\n	Contact:  435-882-7678\n\n	www.bensonmill.org
X-ALT-DESC;FMTTYPE=text/html:<p style="text-align: center">\n	<span style="font-size: 20px">DUP Pioneer Days at the Benson Grist Mill </span></p>\n<p class="MsoNormal" style="text-align: center\; margin: 0in 0in 0pt">\n	<span style="font-size: 20px"><font color="#000000"><font face="Times New Roman">Contact:<span style="mso-spacerun: yes">&nbsp\; </span>435-882-7678</font></font></span><span style="font-size: 14pt"><font color="#000000"><font face="Times New Roman"><o:p></o:p></font></font></span></p>\n<p class="MsoNormal" style="text-align: center\; margin: 0in 0in 0pt">\n	<span style="font-size: 20px"><a href="http://www.bensonmill.org/"><font color="#0000ff" face="Times New Roman">www.bensonmill.org</font></a></span><span style="font-size: 14pt"><o:p></o:p></span></p>\n<p class="MsoNormal" style="margin: 0in 0in 0pt">\n	<span style="font-size: 14pt"><o:p><font color="#000000" face="Times New Roman">&nbsp\;<span _fck_bookmark="1" style="display: none">&nbsp\;</span></font></o:p></span></p>\n
LOCATION:
UID:e.125.3549
SEQUENCE:3
DTSTAMP:20260422T075548Z
URL:https://business.tooelechamber.com/events/details/dup-pioneer-day-benson-grist-mill-07-09-2011-3549
END:VEVENT

END:VCALENDAR
