BEGIN:VCALENDAR
VERSION:2.0
PRODID:-//ChamberMaster//Event Calendar 2.0//EN
METHOD:PUBLISH
X-PUBLISHED-TTL:P3D
REFRESH-INTERVAL:P3D
CALSCALE:GREGORIAN
BEGIN:VEVENT
DTSTART:20130330T160000Z
DTEND:20130330T180000Z
X-MICROSOFT-CDO-ALLDAYEVENT:FALSE
SUMMARY:Easter Egg Hunt
DESCRIPTION:Tooele County Chamber of Commerce Easter Egg Hunt\n\n	Deseret Peak Complex\\\n\n	(0-2 Will Get Bags)\n\n	Special Needs 10:30 AM\n\n	3-4 Ages 11:00AM\n\n	5-6 Ages 11:15AM\n\n	7-8 Ages 11:30AM\n\n	9-11 Ages 11:45AM\n\n	\n\n	Please remember this is a kids activity. Please no parents on the field!!!
X-ALT-DESC;FMTTYPE=text/html:<p>\n	<span style="color: #ff8c00"><span style="font-size: 14px"><strong><u>Tooele County Chamber of Commerce Easter Egg Hunt</u></strong></span></span><br />\n	<span style="color: #40e0d0"><span style="font-size: 14px">Deseret Peak Complex\\<br />\n	(0-2 Will Get Bags)<br />\n	Special Needs 10:30 AM<br />\n	3-4 Ages 11:00AM<br />\n	5-6 Ages 11:15AM<br />\n	7-8 Ages 11:30AM<br />\n	9-11 Ages 11:45AM<br />\n	<br />\n	Please remember this is a kids activity. Please no parents on the field!!!<br />\n	&nbsp\;</span></span></p>\n
LOCATION:
UID:e.125.4971
SEQUENCE:3
DTSTAMP:20260420T214252Z
URL:https://business.tooelechamber.com/events/details/easter-egg-hunt-03-30-2013-4971
END:VEVENT

END:VCALENDAR
