BEGIN:VCALENDAR
VERSION:2.0
PRODID:-//ChamberMaster//Event Calendar 2.0//EN
METHOD:PUBLISH
X-PUBLISHED-TTL:P3D
REFRESH-INTERVAL:P3D
CALSCALE:GREGORIAN
BEGIN:VEVENT
DTSTART:20140420T000000Z
DTEND:20140420T003000Z
X-MICROSOFT-CDO-ALLDAYEVENT:FALSE
SUMMARY:Easter Egg Hunt
DESCRIPTION:Annual Easter Egg Hunt starts at Noon.\nMust have hunting license.  Licenses were given out when you took a donation of candy to one of the drop off homes.
X-ALT-DESC;FMTTYPE=text/html:Annual Easter Egg Hunt starts at Noon.\nMust have hunting license.  Licenses were given out when you took a donation of candy to one of the drop off homes.
LOCATION:Stockton Town Park
UID:e.125.5653
SEQUENCE:3
DTSTAMP:20260419T220751Z
URL:https://business.tooelechamber.com/events/details/easter-egg-hunt-04-19-2014-5653
END:VEVENT

END:VCALENDAR
