BEGIN:VCALENDAR
VERSION:2.0
PRODID:-//ChamberMaster//Event Calendar 2.0//EN
METHOD:PUBLISH
X-PUBLISHED-TTL:P3D
REFRESH-INTERVAL:P3D
CALSCALE:GREGORIAN
BEGIN:VEVENT
DTSTART:20110216T150000Z
DTEND:20110216T160000Z
X-MICROSOFT-CDO-ALLDAYEVENT:FALSE
SUMMARY:Educational Breakfast Meeting
DESCRIPTION:Educational Breakfast Meeting\n\nWednesday\, February 16\, 2011 @ 8am\n\nLocation: JIC Room  \n\n"How the Health Care Reform Act Will Affect Your Business"\n\nPresented by: Kim Myers\, Community Engagement Director\n\nNO CHARGE but you still must RSVP\n\nPlease RSVP Monday\, Feb 14th by 5pm\n\nChamber Office 882-0690
X-ALT-DESC;FMTTYPE=text/html:Educational Breakfast Meeting<br />\nWednesday\, February 16\, 2011 @ 8am<br />\nLocation: JIC Room &nbsp\;<br />\n&quot\;How the Health Care Reform&nbsp\;Act Will Affect Your Business&quot\;<br />\nPresented by: Kim Myers\, Community Engagement Director<br />\nNO CHARGE but you still must RSVP<br />\nPlease RSVP Monday\, Feb 14th by 5pm<br />\nChamber Office 882-0690<br />\n
LOCATION:
UID:e.125.3601
SEQUENCE:3
DTSTAMP:20260422T154256Z
URL:https://business.tooelechamber.com/events/details/educational-breakfast-meeting-02-16-2011-3601
END:VEVENT

END:VCALENDAR
