BEGIN:VCALENDAR
VERSION:2.0
PRODID:-//ChamberMaster//Event Calendar 2.0//EN
METHOD:PUBLISH
X-PUBLISHED-TTL:P3D
REFRESH-INTERVAL:P3D
CALSCALE:GREGORIAN
BEGIN:VEVENT
DTSTART:20100413T140000Z
DTEND:20100413T150000Z
X-MICROSOFT-CDO-ALLDAYEVENT:FALSE
SUMMARY:Educational Breakfast Meeting
DESCRIPTION:Educational Breakfast MeetingTuesday\, April 13th @ 8am"10 Steps to Build Brand New Value for Small Business"Tooele City Hall Council Chambers90 North Main\, Tooele Presented by: M2 Results Marketing No charge for this event!
X-ALT-DESC;FMTTYPE=text/html:<div style="text-align: center"><span style="font-size: large"><u><strong>Educational Breakfast Meeting</strong></u></span></div><div style="text-align: center"><span style="font-size: medium">Tuesday\, April 13th @ 8am</span></div><div style="text-align: center"><span style="font-size: medium">&quot\;10 Steps to Build Brand New Value for Small Business&quot\;</span></div><div style="text-align: center"><span style="font-size: medium">Tooele City Hall Council Chambers</span></div><div style="text-align: center"><span style="font-size: medium">90 North Main\, Tooele </span></div><div style="text-align: center"><span style="font-size: medium">Presented by: M2 Results Marketing </span></div><div style="text-align: center"><span style="background-color: #ffff00"><span style="font-size: medium">No charge for this event!</span></span></div>
LOCATION:
UID:e.125.3127
SEQUENCE:3
DTSTAMP:20260423T080353Z
URL:https://business.tooelechamber.com/events/details/educational-breakfast-meeting-04-13-2010-3127
END:VEVENT

END:VCALENDAR
