BEGIN:VCALENDAR
VERSION:2.0
PRODID:-//ChamberMaster//Event Calendar 2.0//EN
METHOD:PUBLISH
X-PUBLISHED-TTL:P3D
REFRESH-INTERVAL:P3D
CALSCALE:GREGORIAN
BEGIN:VEVENT
DTSTART:20110915T140000Z
DTEND:20110915T150000Z
X-MICROSOFT-CDO-ALLDAYEVENT:FALSE
SUMMARY:Educational Breakfast Meeting
DESCRIPTION:Chamber Educational Breakfast Meeting\n\n	Thursday\, September 15th  8am-9am\n\n	Tooele County Emergency Management   15 East 100 South\, Tooele\n\n	Finding customers and clients in today's high tech world requires specialized knowledge.  Learn some of the secrets to stay ahead of competition while continuing to focus your time on running your business. \n\n	          Do you want your business to be listed on the 1st page of Google?\n\n	          SEO\, PPC\, SEM\, Google Places\, HTML5 mobile sites  What does it all mean?\n\n	          Social Marketing   finding customers through facebook\, Twitter\, and LinkedIn.\n\n	The world of digital\, online\, and mobile marketing is changing rapidly. Learn about the latest industry trends that can help your business. Presentation by Local Digital Insider\, a company specializing in SEO\, mobile websites and social marketing.
X-ALT-DESC;FMTTYPE=text/html:<p class="MsoNormal" style="margin: 0in 0in 10pt">\n	<font color="#000000" size="3">Chamber Educational Breakfast Meeting</font></p>\n<p class="MsoNormal" style="margin: 0in 0in 10pt">\n	<font color="#000000"><font size="3">Thursday\, September 15</font><sup><font size="2">th</font></sup><span style="mso-spacerun: yes"><font size="3">&nbsp\; </font></span><font size="3">8am-9am</font></font></p>\n<p class="MsoNormal" style="margin: 0in 0in 10pt">\n	<font color="#000000" size="3">Tooele County Emergency Management<span style="mso-spacerun: yes">&nbsp\;&nbsp\; </span>15 East 100 South\, Tooele</font></p>\n<p class="MsoNormal" style="margin: 0in 0in 10pt">\n	<font color="#000000" size="3">Finding customers and clients in today&rsquo\;s high tech world requires specialized knowledge.<span style="mso-spacerun: yes">&nbsp\; </span>Learn some of the secrets to stay ahead of competition while continuing to focus your time on running your business. </font></p>\n<p class="MsoListParagraphCxSpFirst" style="text-indent: -0.25in\; margin: 0in 0in 0pt 0.5in\; mso-list: l0 level1 lfo1">\n	<font color="#000000"><span style="font-family: symbol\; mso-fareast-font-family: symbol\; mso-bidi-font-family: symbol"><span style="mso-list: ignore"><font size="3">&middot\;</font><span style="font: 7pt 'times new roman'">&nbsp\;&nbsp\;&nbsp\;&nbsp\;&nbsp\;&nbsp\;&nbsp\;&nbsp\; </span></span></span><font size="3">Do you want your business to be listed on the 1</font><sup><font size="2">st</font></sup><font size="3"> page of Google?</font></font></p>\n<p class="MsoListParagraphCxSpMiddle" style="text-indent: -0.25in\; margin: 0in 0in 0pt 0.5in\; mso-list: l0 level1 lfo1">\n	<font color="#000000"><span style="font-family: symbol\; mso-fareast-font-family: symbol\; mso-bidi-font-family: symbol"><span style="mso-list: ignore"><font size="3">&middot\;</font><span style="font: 7pt 'times new roman'">&nbsp\;&nbsp\;&nbsp\;&nbsp\;&nbsp\;&nbsp\;&nbsp\;&nbsp\; </span></span></span><font size="3">SEO\, PPC\, SEM\, Google Places\, HTML5 mobile sites&hellip\; What does it all mean?</font></font></p>\n<p class="MsoListParagraphCxSpLast" style="text-indent: -0.25in\; margin: 0in 0in 10pt 0.5in\; mso-list: l0 level1 lfo1">\n	<font color="#000000"><span style="font-family: symbol\; mso-fareast-font-family: symbol\; mso-bidi-font-family: symbol"><span style="mso-list: ignore"><font size="3">&middot\;</font><span style="font: 7pt 'times new roman'">&nbsp\;&nbsp\;&nbsp\;&nbsp\;&nbsp\;&nbsp\;&nbsp\;&nbsp\; </span></span></span><font size="3">Social Marketing &ndash\; finding customers through facebook\, Twitter\, and LinkedIn.</font></font></p>\n<p class="MsoNormal" style="margin: 0in 0in 10pt">\n	<font color="#000000" size="3">The world of digital\, online\, and mobile marketing is changing rapidly. Learn about the latest industry trends that can help your business. Presentation by Local Digital Insider\, a company specializing in SEO\, mobile websites and social marketing.<span _fck_bookmark="1" style="display: none">&nbsp\;</span></font></p>\n
LOCATION:
UID:e.125.3882
SEQUENCE:3
DTSTAMP:20260422T044341Z
URL:https://business.tooelechamber.com/events/details/educational-breakfast-meeting-09-15-2011-3882
END:VEVENT

END:VCALENDAR
