BEGIN:VCALENDAR
VERSION:2.0
PRODID:-//ChamberMaster//Event Calendar 2.0//EN
METHOD:PUBLISH
X-PUBLISHED-TTL:P3D
REFRESH-INTERVAL:P3D
CALSCALE:GREGORIAN
BEGIN:VEVENT
DTSTART:20101109T150000Z
DTEND:20101109T160000Z
X-MICROSOFT-CDO-ALLDAYEVENT:FALSE
SUMMARY:Educational Breakfast Meeting
DESCRIPTION:Finding good employees just got easier!!\n\n	Educational Breakfast Meeting \n\n	Presented by: LDS Employment Resource Services\n\n	Tuesday\, November 9\, 2010 from 8-9am\n\n	Tooele County Emergency Management Building\n\n	15 East 100 South\, Tooele\n\n	NO CHARGE for this event!!\n\n	Please RSVP Friday\, Nov. 5th by 5pm\n\n	Chamber Office (435)882-0690
X-ALT-DESC;FMTTYPE=text/html:<p style="text-align: center">\n	<span style="font-size: 22px">Finding good employees just got easier!!<br />\n	<u><strong>Educational Breakfast Meeting </strong></u><br />\n	Presented by: LDS Employment Resource Services<br />\n	Tuesday\, November 9\, 2010 from 8-9am<br />\n	Tooele County Emergency Management Building<br />\n	15 East 100 South\, Tooele<br />\n	NO CHARGE for this event!!<br />\n	Please RSVP&nbsp\;Friday\, Nov. 5th by 5pm<br />\n	Chamber Office (435)882-0690</span></p>\n
LOCATION:
UID:e.125.3273
SEQUENCE:3
DTSTAMP:20260422T220037Z
URL:https://business.tooelechamber.com/events/details/educational-breakfast-meeting-11-09-2010-3273
END:VEVENT

END:VCALENDAR
