BEGIN:VCALENDAR
VERSION:2.0
PRODID:-//ChamberMaster//Event Calendar 2.0//EN
METHOD:PUBLISH
X-PUBLISHED-TTL:P3D
REFRESH-INTERVAL:P3D
CALSCALE:GREGORIAN
BEGIN:VEVENT
DTSTART:20101103T000000Z
DTEND:20101103T030000Z
X-MICROSOFT-CDO-ALLDAYEVENT:FALSE
SUMMARY:Event at England Counseling
DESCRIPTION:We are providing a psycho-educational group regarding pornography and sexual addiction. There is a group experience for both the person struggling and his spouse. Individuals are also welcome to attend. The groups are facilitated by licensed therapists. Following the six week group\, additional groups are offered focusing on treating the deeper issues related to pornography and sexual addictions. For questions\, please contact our offices or email us.
X-ALT-DESC;FMTTYPE=text/html:We are providing a psycho-educational group regarding pornography and sexual addiction. There is a group experience for both the person struggling and his spouse. Individuals are also welcome to attend. The groups are facilitated by licensed therapists. Following the six week group\, additional groups are offered focusing on treating the deeper issues related to pornography and sexual addictions. For questions\, please contact our offices or email us.<span _fck_bookmark="1" style="display: none">&nbsp\;</span>
LOCATION:England Counseling Services 3564 South 700 West #C Magna\, UT 84044
UID:e.125.3269
SEQUENCE:3
DTSTAMP:20260422T202931Z
URL:https://business.tooelechamber.com/events/details/event-at-england-counseling-11-02-2010-3269
END:VEVENT

END:VCALENDAR
