BEGIN:VCALENDAR
VERSION:2.0
PRODID:-//ChamberMaster//Event Calendar 2.0//EN
METHOD:PUBLISH
X-PUBLISHED-TTL:P3D
REFRESH-INTERVAL:P3D
CALSCALE:GREGORIAN
BEGIN:VEVENT
DTSTART:20100527T233000Z
DTEND:20100528T020000Z
X-MICROSOFT-CDO-ALLDAYEVENT:FALSE
SUMMARY:Event at Jackrabbit Press
DESCRIPTION:1st Annual Juried Framed Art Show\n\nCome on out and support these local artists.\n\nWill be held inconjunction with the Tooele\n\nCounty Chamber of Commerce Business After Hours
X-ALT-DESC;FMTTYPE=text/html:1st Annual Juried Framed Art Show\n<br>Come on out and support these local artists.\n<br>Will be held inconjunction with the Tooele\n<br>County Chamber of Commerce Business After Hours
LOCATION:Jackrabbit Press 272 North Broadway\, Tooele
UID:e.125.3165
SEQUENCE:3
DTSTAMP:20260423T062302Z
URL:https://business.tooelechamber.com/events/details/event-at-jackrabbit-press-05-27-2010-3165
END:VEVENT

END:VCALENDAR
