BEGIN:VCALENDAR
VERSION:2.0
PRODID:-//ChamberMaster//Event Calendar 2.0//EN
METHOD:PUBLISH
X-PUBLISHED-TTL:P3D
REFRESH-INTERVAL:P3D
CALSCALE:GREGORIAN
BEGIN:VEVENT
DTSTART;VALUE=DATE:20110903
DTEND;VALUE=DATE:20110905
TRANSP:TRANSPARENT
X-MICROSOFT-CDO-ALLDAYEVENT:TRUE
SUMMARY:Event at Miller Motorsports Park
DESCRIPTION:Bike Fest\n\n	Bonneville Vintage GP (AHRMA)\n\n	Contact:  toll free 866-297-2636\n\n	www.MillerMotorPark.com
X-ALT-DESC;FMTTYPE=text/html:<p style="text-align: center">\n	<span style="font-size: 20px"><span style="font-family: times new roman">Bike Fest</span><br />\n	<span style="font-family: times new roman">Bonneville Vintage GP (AHRMA)</span></span></p>\n<p style="text-align: center">\n	<span style="font-size: 20px"><span style="font-family: times new roman">Contact:&nbsp\; toll free 866-297-2636</span></span></p>\n<p style="text-align: center">\n	<span style="font-size: 20px"><a href="http://www.millermotorpark.com/"><span style="color: windowtext"><span style="font-family: times new roman">www.MillerMotorPark.com</span></span></a>&nbsp\;</span></p>\n
LOCATION:
UID:e.125.3567
SEQUENCE:3
DTSTAMP:20260422T045356Z
URL:https://business.tooelechamber.com/events/details/event-at-miller-motorsports-park-09-03-2011-3567
END:VEVENT

END:VCALENDAR
