BEGIN:VCALENDAR
VERSION:2.0
PRODID:-//ChamberMaster//Event Calendar 2.0//EN
METHOD:PUBLISH
X-PUBLISHED-TTL:P3D
REFRESH-INTERVAL:P3D
CALSCALE:GREGORIAN
BEGIN:VEVENT
DTSTART:20100517T150000Z
DTEND:20100517T163000Z
X-MICROSOFT-CDO-ALLDAYEVENT:FALSE
SUMMARY:Event at TooeleMommies.com
DESCRIPTION:Coffe Break at Denny's. Please join us at Denny's for coffee and breakfast. Non-school aged kids welcomed!
X-ALT-DESC;FMTTYPE=text/html:<div style="text-align: center"><span style="font-size: x-large">Coffe Break at Denny&rsquo\;s. Please join us at Denny&rsquo\;s for coffee and breakfast. Non-school aged kids welcomed! </span></div>
LOCATION:Denny's-Tooele
UID:e.125.3166
SEQUENCE:3
DTSTAMP:20260423T062445Z
URL:https://business.tooelechamber.com/events/details/event-at-tooelemommies-com-05-17-2010-3166
END:VEVENT

END:VCALENDAR
