BEGIN:VCALENDAR
VERSION:2.0
PRODID:-//ChamberMaster//Event Calendar 2.0//EN
METHOD:PUBLISH
X-PUBLISHED-TTL:P3D
REFRESH-INTERVAL:P3D
CALSCALE:GREGORIAN
BEGIN:VEVENT
DTSTART:20110210T020000Z
DTEND:20110210T030000Z
X-MICROSOFT-CDO-ALLDAYEVENT:FALSE
SUMMARY:Fallen Heroes Foundation Presentation
DESCRIPTION:The United States Fallen Heroes Foundation \n\n	will make a presentation at the Tooele High School auditorium \nWednesday\, February 9\, 2011 @ 7:00pm\n\nThe public is invited to attend.
X-ALT-DESC;FMTTYPE=text/html:<p>\n	<span style="font-size: 20px">The United States Fallen Heroes Foundation </span></p>\n<p>\n	<span style="font-size: 20px">will make a presentation at the Tooele High School auditorium </span></p>\n<span style="font-size: 20px">Wednesday\, February 9\, 2011 @ 7:00pm<br />\nThe public is invited to attend.</span><br />\n
LOCATION:
UID:e.125.3618
SEQUENCE:3
DTSTAMP:20260422T154359Z
URL:https://business.tooelechamber.com/events/details/fallen-heroes-foundation-presentation-02-09-2011-3618
END:VEVENT

END:VCALENDAR
