BEGIN:VCALENDAR
VERSION:2.0
PRODID:-//ChamberMaster//Event Calendar 2.0//EN
METHOD:PUBLISH
X-PUBLISHED-TTL:P3D
REFRESH-INTERVAL:P3D
CALSCALE:GREGORIAN
BEGIN:VEVENT
DTSTART:20120811T000000Z
DTEND:20120811T020000Z
X-MICROSOFT-CDO-ALLDAYEVENT:FALSE
SUMMARY:Family Chalk Art Contest
DESCRIPTION:AUGUST 10 @6PM\n\n	TOOELE CITY PARK (SWIMMING POOL PARK)\n\n	FREE FOR FAMILIES OF ALL AGES\n\n	FAMILY CHALK ART CONTEST\n\n	\n\n	START TIME:6:00PM\n\n	(PLEASE BE SURE TO STOP AND REGISTRATION TABLE TO BE ASSIGNED A SPOT)\n\n	\n\n	JUDGING TIME: 8:00PM\n\n	( YOU MUST HAVE YOUR ART WORK COMPLETED BY JUDGING TIME)\n\n	\n\n	AWARD TIME: 8:30PM\n\n	( WINNERS WILL BE ANNOUNCED AT THE END OF THE CONCERT. FAMILIES MUST BE PRESENT TO RECEIVED A PRIZE)
X-ALT-DESC;FMTTYPE=text/html:<p>\n	<strong><span style="font-size: 16px">AUGUST 10 @6PM<br />\n	TOOELE CITY PARK (SWIMMING POOL PARK)<br />\n	FREE FOR FAMILIES OF ALL AGES<br />\n	FAMILY CHALK ART CONTEST<br />\n	<br />\n	START TIME:6:00PM<br />\n	(PLEASE BE SURE TO STOP AND REGISTRATION TABLE TO BE ASSIGNED A SPOT)<br />\n	<br />\n	JUDGING TIME: 8:00PM<br />\n	( YOU MUST HAVE YOUR ART WORK COMPLETED BY JUDGING TIME)<br />\n	<br />\n	AWARD TIME: 8:30PM<br />\n	( WINNERS WILL BE ANNOUNCED AT THE END OF THE CONCERT. FAMILIES <u>MUST</u> BE PRESENT TO RECEIVED A PRIZE)</span></strong><br />\n	&nbsp\;</p>\n
LOCATION:
UID:e.125.4876
SEQUENCE:3
DTSTAMP:20260421T103652Z
URL:https://business.tooelechamber.com/events/details/family-chalk-art-contest-08-10-2012-4876
END:VEVENT

END:VCALENDAR
