BEGIN:VCALENDAR
VERSION:2.0
PRODID:-//ChamberMaster//Event Calendar 2.0//EN
METHOD:PUBLISH
X-PUBLISHED-TTL:P3D
REFRESH-INTERVAL:P3D
CALSCALE:GREGORIAN
BEGIN:VEVENT
DTSTART;VALUE=DATE:20090427
DTEND;VALUE=DATE:20090428
TRANSP:TRANSPARENT
X-MICROSOFT-CDO-ALLDAYEVENT:TRUE
SUMMARY:Family Golf Night
DESCRIPTION:Family Golf NightMonday\, April 27th\n6:30-7:30 pm\nOquirrh Hills Golf Course\n1255 E. Vine St.\, Tooele435-843-2142
X-ALT-DESC;FMTTYPE=text/html:<p align="center"><font size="4">&nbsp\;</font><font face="Arial" size="2"><font face="Arial"><u><strong><font size="4">Family Golf Night</font></strong></u></font><font face="Arial" size="2"><p align="center"><font size="4">Monday\, April 27th<br />6:30-7:30 pm<br />Oquirrh Hills Golf Course<br />1255 E. Vine St.\, Tooele</font></p><p align="center"><font size="4">435-843-2142</font></p></font></font></p>
LOCATION:
UID:e.125.1234
SEQUENCE:3
DTSTAMP:20260424T144331Z
URL:https://business.tooelechamber.com/events/details/family-golf-night-04-27-2009-1234
END:VEVENT

END:VCALENDAR
