BEGIN:VCALENDAR
VERSION:2.0
PRODID:-//ChamberMaster//Event Calendar 2.0//EN
METHOD:PUBLISH
X-PUBLISHED-TTL:P3D
REFRESH-INTERVAL:P3D
CALSCALE:GREGORIAN
BEGIN:VEVENT
DTSTART:20110702T030000Z
DTEND:20110702T050000Z
X-MICROSOFT-CDO-ALLDAYEVENT:FALSE
SUMMARY:Family Movie in the Park
DESCRIPTION:Family Movie in the Park\n\n	Friday\, July 1\, 2011 @ 9pm\n\n	Tooele City Park\n\n	200 West Vine Street\, Tooele\n\n	Bring your blanket\, chairs\, and goodies to enjoy a fun family movie. There will be popcorn for families. Please call for show title - 435-843-2143
X-ALT-DESC;FMTTYPE=text/html:<p style="text-align: center">\n	<span style="font-size: 26px">Family Movie in the Park<br />\n	Friday\, July 1\, 2011 @ 9pm<br />\n	Tooele City Park<br />\n	200 West Vine Street\, Tooele<br />\n	Bring your blanket\, chairs\, and goodies to enjoy a fun family movie. There will be popcorn for families. Please call for show title - 435-843-2143</span></p>\n
LOCATION:
UID:e.125.3712
SEQUENCE:3
DTSTAMP:20260422T075548Z
URL:https://business.tooelechamber.com/events/details/family-movie-in-the-park-07-01-2011-3712
END:VEVENT

END:VCALENDAR
