BEGIN:VCALENDAR
VERSION:2.0
PRODID:-//ChamberMaster//Event Calendar 2.0//EN
METHOD:PUBLISH
X-PUBLISHED-TTL:P3D
REFRESH-INTERVAL:P3D
CALSCALE:GREGORIAN
BEGIN:VEVENT
DTSTART:20080422T003000Z
DTEND:20080422T023000Z
X-MICROSOFT-CDO-ALLDAYEVENT:FALSE
SUMMARY:Family Walk
DESCRIPTION:Family Walk at  England Acres Park
X-ALT-DESC;FMTTYPE=text/html:<div>Family Walk at&nbsp\; England Acres Park</div>
LOCATION:England Acres Park850 North 400 East\, Tooele
UID:e.125.375
SEQUENCE:3
DTSTAMP:20260424T215828Z
URL:https://business.tooelechamber.com/events/details/family-walk-04-21-2008-375
END:VEVENT

END:VCALENDAR
