BEGIN:VCALENDAR
VERSION:2.0
PRODID:-//ChamberMaster//Event Calendar 2.0//EN
METHOD:PUBLISH
X-PUBLISHED-TTL:P3D
REFRESH-INTERVAL:P3D
CALSCALE:GREGORIAN
BEGIN:VEVENT
DTSTART;VALUE=DATE:20080910
DTEND;VALUE=DATE:20080917
TRANSP:TRANSPARENT
X-MICROSOFT-CDO-ALLDAYEVENT:TRUE
SUMMARY:Farmer's Market at Maceys Food & Drug
DESCRIPTION:Macey's Farmer's Market\nLocal Utah Produce and other Utah's Own products\nOn Friday and Saturday some of the Utah's Own Companies are coming out to demo their products.  There will be free samples\, local Utah Produce and Coldstone Creamery is coming!!
X-ALT-DESC;FMTTYPE=text/html:Macey's Farmer's Market\nLocal Utah Produce and other Utah's Own products\nOn Friday and Saturday some of the Utah's Own Companies are coming out to demo their products.  There will be free samples\, local Utah Produce and Coldstone Creamery is coming!!
LOCATION:Macey's Grocery Store
UID:e.125.467
SEQUENCE:3
DTSTAMP:20260424T141506Z
URL:https://business.tooelechamber.com/events/details/farmer-s-market-at-maceys-food-drug-09-10-2008-467
END:VEVENT

END:VCALENDAR
