BEGIN:VCALENDAR
VERSION:2.0
PRODID:-//ChamberMaster//Event Calendar 2.0//EN
METHOD:PUBLISH
X-PUBLISHED-TTL:P3D
REFRESH-INTERVAL:P3D
CALSCALE:GREGORIAN
BEGIN:VEVENT
DTSTART;VALUE=DATE:20090925
DTEND;VALUE=DATE:20090928
TRANSP:TRANSPARENT
X-MICROSOFT-CDO-ALLDAYEVENT:TRUE
SUMMARY:Festival of The Old West/Gem & Mineral
DESCRIPTION:Festival of The Old West/Gem & MineralShow. Contact: 801-554-0527
X-ALT-DESC;FMTTYPE=text/html:<div><font face="Frutiger-LightCn" size="1"><font face="Frutiger-LightCn" size="1"><p align="center"><font size="4">Festival of The Old West/Gem &amp\; Mineral</font></p><p align="center"><font size="4">Show. Contact: 801-554-0527</font></p></font></font></div>
LOCATION:
UID:e.125.1227
SEQUENCE:3
DTSTAMP:20260423T182339Z
URL:https://business.tooelechamber.com/events/details/festival-of-the-old-west-gem-mineral-09-25-2009-1227
END:VEVENT

END:VCALENDAR
